BEGIN:VCALENDAR
VERSION:2.0
PRODID:-//Dakota Electric Association® - ECPv6.15.18//NONSGML v1.0//EN
CALSCALE:GREGORIAN
METHOD:PUBLISH
X-ORIGINAL-URL:https://www.dakotaelectric.com
X-WR-CALDESC:Events for Dakota Electric Association®
REFRESH-INTERVAL;VALUE=DURATION:PT1H
X-Robots-Tag:noindex
X-PUBLISHED-TTL:PT1H
BEGIN:VTIMEZONE
TZID:America/Chicago
BEGIN:DAYLIGHT
TZOFFSETFROM:-0600
TZOFFSETTO:-0500
TZNAME:CDT
DTSTART:20230312T080000
END:DAYLIGHT
BEGIN:STANDARD
TZOFFSETFROM:-0500
TZOFFSETTO:-0600
TZNAME:CST
DTSTART:20231105T070000
END:STANDARD
BEGIN:DAYLIGHT
TZOFFSETFROM:-0600
TZOFFSETTO:-0500
TZNAME:CDT
DTSTART:20240310T080000
END:DAYLIGHT
BEGIN:STANDARD
TZOFFSETFROM:-0500
TZOFFSETTO:-0600
TZNAME:CST
DTSTART:20241103T070000
END:STANDARD
BEGIN:DAYLIGHT
TZOFFSETFROM:-0600
TZOFFSETTO:-0500
TZNAME:CDT
DTSTART:20250309T080000
END:DAYLIGHT
BEGIN:STANDARD
TZOFFSETFROM:-0500
TZOFFSETTO:-0600
TZNAME:CST
DTSTART:20251102T070000
END:STANDARD
BEGIN:DAYLIGHT
TZOFFSETFROM:-0600
TZOFFSETTO:-0500
TZNAME:CDT
DTSTART:20260308T080000
END:DAYLIGHT
BEGIN:STANDARD
TZOFFSETFROM:-0500
TZOFFSETTO:-0600
TZNAME:CST
DTSTART:20261101T070000
END:STANDARD
END:VTIMEZONE
BEGIN:VTIMEZONE
TZID:America/Chicago
BEGIN:DAYLIGHT
TZOFFSETFROM:-0600
TZOFFSETTO:-0500
TZNAME:CDT
DTSTART:20220313T080000
END:DAYLIGHT
BEGIN:STANDARD
TZOFFSETFROM:-0500
TZOFFSETTO:-0600
TZNAME:CST
DTSTART:20221106T070000
END:STANDARD
BEGIN:DAYLIGHT
TZOFFSETFROM:-0600
TZOFFSETTO:-0500
TZNAME:CDT
DTSTART:20230312T080000
END:DAYLIGHT
BEGIN:STANDARD
TZOFFSETFROM:-0500
TZOFFSETTO:-0600
TZNAME:CST
DTSTART:20231105T070000
END:STANDARD
BEGIN:DAYLIGHT
TZOFFSETFROM:-0600
TZOFFSETTO:-0500
TZNAME:CDT
DTSTART:20240310T080000
END:DAYLIGHT
BEGIN:STANDARD
TZOFFSETFROM:-0500
TZOFFSETTO:-0600
TZNAME:CST
DTSTART:20241103T070000
END:STANDARD
END:VTIMEZONE
BEGIN:VEVENT
DTSTART;TZID=America/Chicago:20250424T190000
DTEND;TZID=America/Chicago:20250424T203000
DTSTAMP:20260423T064312
CREATED:20250224T234402Z
LAST-MODIFIED:20250224T234402Z
UID:713109-1745521200-1745526600@www.dakotaelectric.com
SUMMARY:87th Annual Dakota Electric Association Annual Meeting
DESCRIPTION:As member-owners\, all Dakota Electric members are invited to attend and ask questions at the cooperative’s annual meeting. Annual Meetings provide members with information about the cooperative’s growth\, financial health\, board election and programs available to members. \nDoors will open at 6 p.m. at Dakota Electric’s headquarters and the meeting will begin at 7 p.m. You can find more details about Dakota Electric’s Annual Meeting on the comprehensive Annual Meeting page.
URL:https://www.dakotaelectric.com/event/87th-annual-dakota-electric-association-annual-meeting/
LOCATION:Dakota Electric Association\, 4300 220th St. W\, Farmington\, MN\, 55024\, United States
CATEGORIES:Annual Meeting
ATTACH;FMTTYPE=image/jpeg:https://www.dakotaelectric.com/wp-content/uploads/2024/03/Annual-Meeting-scaled.jpg
END:VEVENT
BEGIN:VEVENT
DTSTART;TZID=America/Chicago:20250424T080000
DTEND;TZID=America/Chicago:20250424T163000
DTSTAMP:20260423T064312
CREATED:20250107T221435Z
LAST-MODIFIED:20250107T223432Z
UID:712494-1745481600-1745512200@www.dakotaelectric.com
SUMMARY:April Board Meeting
DESCRIPTION:As a member-owned cooperative\, those who purchase electricity from Dakota Electric democratically govern the cooperative through a member-elected board of directors. \nTherefore\, all members are invited to attend the board of directors’ monthly meetings. During meetings\, the board acts on behalf of all members’ interests to review general operational items and create policies and future plans for Dakota Electric.
URL:https://www.dakotaelectric.com/event/april-board-meeting-2025/
LOCATION:Dakota Electric Association\, 4300 220th St. W\, Farmington\, MN\, 55024\, United States
CATEGORIES:Annual Meeting,Board Meeting
ATTACH;FMTTYPE=image/jpeg:https://www.dakotaelectric.com/wp-content/uploads/2025/01/Boardroom-2.jpg
END:VEVENT
BEGIN:VEVENT
DTSTART;TZID=America/Chicago:20240425T180000
DTEND;TZID=America/Chicago:20240425T203000
DTSTAMP:20260423T064312
CREATED:20231227T142031Z
LAST-MODIFIED:20240417T211135Z
UID:705772-1714068000-1714077000@www.dakotaelectric.com
SUMMARY:Annual Meeting
DESCRIPTION:As member-owners\, all Dakota Electric members are invited to attend and ask questions at the cooperative’s annual meeting. Annual Meetings provide members with information about the cooperative’s growth\, financial health\, board election and programs available to members. \nDoors will open at 6 p.m. at the Rosemount Community Center and the meeting will begin at 7 p.m. You can find more details about Dakota Electric’s Annual Meeting on the comprehensive Annual Meeting page.
URL:https://www.dakotaelectric.com/event/annual-meeting-4/
LOCATION:Rosemount Community Center\, 13885 S. Robert Trl.\, Rosemount\, MN\, 55068\, United States
CATEGORIES:Annual Meeting
END:VEVENT
BEGIN:VEVENT
DTSTART;TZID=America/Chicago:20230427T180000
DTEND;TZID=America/Chicago:20230427T203000
DTSTAMP:20260423T064312
CREATED:20230125T144200Z
LAST-MODIFIED:20230223T151020Z
UID:701928-1682618400-1682627400@www.dakotaelectric.com
SUMMARY:2023 Annual Meeting
DESCRIPTION:Join us for our 2023 Annual Meeting!\nRosemount Community Center\n13885 S Robert Trl\,\nRosemount\, MN  55068 \nAgenda\n6 p.m. – Registration\n6:30 p.m. – Chat with Board Candidates\n7 p.m. – Business Meeting\n8:30 p.m. – Meeting Adjourns
URL:https://www.dakotaelectric.com/event/2023-annual-meeting/
LOCATION:Rosemount Community Center\, 13885 S. Robert Trl.\, Rosemount\, MN\, 55068\, United States
CATEGORIES:Annual Meeting
END:VEVENT
END:VCALENDAR