BEGIN:VCALENDAR
VERSION:2.0
PRODID:-//Dakota Electric Association® - ECPv6.15.18//NONSGML v1.0//EN
CALSCALE:GREGORIAN
METHOD:PUBLISH
X-WR-CALNAME:Dakota Electric Association®
X-ORIGINAL-URL:https://www.dakotaelectric.com
X-WR-CALDESC:Events for Dakota Electric Association®
REFRESH-INTERVAL;VALUE=DURATION:PT1H
X-Robots-Tag:noindex
X-PUBLISHED-TTL:PT1H
BEGIN:VTIMEZONE
TZID:America/Chicago
BEGIN:DAYLIGHT
TZOFFSETFROM:-0600
TZOFFSETTO:-0500
TZNAME:CDT
DTSTART:20220313T080000
END:DAYLIGHT
BEGIN:STANDARD
TZOFFSETFROM:-0500
TZOFFSETTO:-0600
TZNAME:CST
DTSTART:20221106T070000
END:STANDARD
BEGIN:DAYLIGHT
TZOFFSETFROM:-0600
TZOFFSETTO:-0500
TZNAME:CDT
DTSTART:20230312T080000
END:DAYLIGHT
BEGIN:STANDARD
TZOFFSETFROM:-0500
TZOFFSETTO:-0600
TZNAME:CST
DTSTART:20231105T070000
END:STANDARD
BEGIN:DAYLIGHT
TZOFFSETFROM:-0600
TZOFFSETTO:-0500
TZNAME:CDT
DTSTART:20240310T080000
END:DAYLIGHT
BEGIN:STANDARD
TZOFFSETFROM:-0500
TZOFFSETTO:-0600
TZNAME:CST
DTSTART:20241103T070000
END:STANDARD
END:VTIMEZONE
BEGIN:VEVENT
DTSTART;TZID=America/Chicago:20230926T170000
DTEND;TZID=America/Chicago:20230926T190000
DTSTAMP:20260424T222216
CREATED:20230901T174236Z
LAST-MODIFIED:20230901T174320Z
UID:704287-1695747600-1695754800@www.dakotaelectric.com
SUMMARY:Energy Trends Expo
DESCRIPTION:Join us again this year as we bring together local leaders in the energy economy for an exploration of the current state of affairs. Visit with various vendors\, check out of a number of electric vehicles\, and join our experts as they discuss energy trends for today\, tomorrow\, and beyond.\n\nDakota Electric Associations is proud to co-sponsor this event with Lakeville Friends of the Environment.
URL:https://www.dakotaelectric.com/event/energy-trends-expo-4/
LOCATION:Eagan Community Center\, 1501 Central Pkwy\, Eagan\, MN\, 55121\, United States
CATEGORIES:Community Events,Dakota Electric Events,Energy Trends
END:VEVENT
END:VCALENDAR