BEGIN:VCALENDAR
VERSION:2.0
PRODID:-//Dakota Electric Association® - ECPv6.15.18//NONSGML v1.0//EN
CALSCALE:GREGORIAN
METHOD:PUBLISH
X-ORIGINAL-URL:https://www.dakotaelectric.com
X-WR-CALDESC:Events for Dakota Electric Association®
REFRESH-INTERVAL;VALUE=DURATION:PT1H
X-Robots-Tag:noindex
X-PUBLISHED-TTL:PT1H
BEGIN:VTIMEZONE
TZID:America/Chicago
BEGIN:DAYLIGHT
TZOFFSETFROM:-0600
TZOFFSETTO:-0500
TZNAME:CDT
DTSTART:20220313T080000
END:DAYLIGHT
BEGIN:STANDARD
TZOFFSETFROM:-0500
TZOFFSETTO:-0600
TZNAME:CST
DTSTART:20221106T070000
END:STANDARD
BEGIN:DAYLIGHT
TZOFFSETFROM:-0600
TZOFFSETTO:-0500
TZNAME:CDT
DTSTART:20230312T080000
END:DAYLIGHT
BEGIN:STANDARD
TZOFFSETFROM:-0500
TZOFFSETTO:-0600
TZNAME:CST
DTSTART:20231105T070000
END:STANDARD
BEGIN:DAYLIGHT
TZOFFSETFROM:-0600
TZOFFSETTO:-0500
TZNAME:CDT
DTSTART:20240310T080000
END:DAYLIGHT
BEGIN:STANDARD
TZOFFSETFROM:-0500
TZOFFSETTO:-0600
TZNAME:CST
DTSTART:20241103T070000
END:STANDARD
END:VTIMEZONE
BEGIN:VEVENT
DTSTART;TZID=America/Chicago:20230322T090000
DTEND;TZID=America/Chicago:20230322T130000
DTSTAMP:20260425T091908
CREATED:20230223T144423Z
LAST-MODIFIED:20230223T150145Z
UID:702456-1679475600-1679490000@www.dakotaelectric.com
SUMMARY:Crops Day
DESCRIPTION:For the fifteenth year\, Crops Day will bring University of Minnesota and Dakota County Soil & Water Conservation District experts to Dakota County Growers to share local research results and crop management strategies with producers and other agricultural professionals.  \nCrops Day will be held on Wed.\, March 22\, 2023 at the Dakota Electric Association office located at 4300 220th Street West in Farmington. This event is free and open to the public. Lunch will be provided and pre-registration is requested for food-planning purposes. Register by clicking here or scan the QR code below! \n 
URL:https://www.dakotaelectric.com/event/crops-day-3/
LOCATION:Dakota Electric Association\, 4300 220th St. W\, Farmington\, MN\, 55024\, United States
CATEGORIES:Dakota Electric Events
END:VEVENT
END:VCALENDAR