BEGIN:VCALENDAR
VERSION:2.0
PRODID:-//Dakota Electric Association® - ECPv6.15.18//NONSGML v1.0//EN
CALSCALE:GREGORIAN
METHOD:PUBLISH
X-ORIGINAL-URL:https://www.dakotaelectric.com
X-WR-CALDESC:Events for Dakota Electric Association®
REFRESH-INTERVAL;VALUE=DURATION:PT1H
X-Robots-Tag:noindex
X-PUBLISHED-TTL:PT1H
BEGIN:VTIMEZONE
TZID:America/Chicago
BEGIN:DAYLIGHT
TZOFFSETFROM:-0600
TZOFFSETTO:-0500
TZNAME:CDT
DTSTART:20210314T080000
END:DAYLIGHT
BEGIN:STANDARD
TZOFFSETFROM:-0500
TZOFFSETTO:-0600
TZNAME:CST
DTSTART:20211107T070000
END:STANDARD
BEGIN:DAYLIGHT
TZOFFSETFROM:-0600
TZOFFSETTO:-0500
TZNAME:CDT
DTSTART:20220313T080000
END:DAYLIGHT
BEGIN:STANDARD
TZOFFSETFROM:-0500
TZOFFSETTO:-0600
TZNAME:CST
DTSTART:20221106T070000
END:STANDARD
BEGIN:DAYLIGHT
TZOFFSETFROM:-0600
TZOFFSETTO:-0500
TZNAME:CDT
DTSTART:20230312T080000
END:DAYLIGHT
BEGIN:STANDARD
TZOFFSETFROM:-0500
TZOFFSETTO:-0600
TZNAME:CST
DTSTART:20231105T070000
END:STANDARD
END:VTIMEZONE
BEGIN:VEVENT
DTSTART;TZID=America/Chicago:20220917T100000
DTEND;TZID=America/Chicago:20220917T160000
DTSTAMP:20260424T015432
CREATED:20220829T133749Z
LAST-MODIFIED:20220830T130956Z
UID:699892-1663408800-1663430400@www.dakotaelectric.com
SUMMARY:Fall Food Drive
DESCRIPTION:Join us for our Fall Food Drive\, an event fun for the whole family!\nHelp Dakota Electric support The Open Door Food Pantry on Sept. 17 10 a.m. – 4 p.m. at Hy-Vee on Pilot Knob in Lakeville. Donate cash or food items for a chance to win an electric bike and helmet from Valley Bike and Ski and other door prizes! \nCheck out a Dakota Electric bucket truck\, or demo an electric bike from Valley Bike and Ski! \nDakota Electric will match cash donations and for every pound of food\, Dakota Electric will donate $1 to the food shelf.  
URL:https://www.dakotaelectric.com/event/fall-food-drive/
LOCATION:Hy-Vee\, 16150 Pilot Knob Rd\, Lakeville\, MN\, 55044\, United States
CATEGORIES:Member Appreciation Event
END:VEVENT
END:VCALENDAR